Workbook

Sheet Demonstrativo geral PCG
A1: Demonstrativo do Cumprimento da Aplicação de Recursos no Programa de Comprometimento e Gratuidade (PCG)
A2: RECEITAS | B2: Valor (R$)
A3: Receita de Contribuição Compulsória Bruta | B3: ='Detalhamento RCL'!B32 -> 7.9664326e+09
A4: (-) Comissão paga ao órgão arrecadador | B4: ='Detalhamento RCL'!C32 -> 2.7882514e+08
A5: (-) Contribuição às Federações | B5: ='Detalhamento RCL'!D32 -> 4.1799872e+08
A6: (=) Receita de Contribuição Compulsória Líquida (RCCL) | B6: =B3-B4-B5 -> 7.2696088e+09
A8: Compromisso de Aplicação de Recursos no PCG (33,33%) | B8: =B6*33.33% -> 2.4229606e+09
A9: (+/-) Saldo do Exercício Anterior | B9: 0
A10: (=) Compromisso Total de Aplicação em Educação | B10: =B8 -> 2.4229606e+09
A12: Compromisso de Aplicação de Recursos em Gratuidade (50% de 33,33%) | B12: =B6*16.67% -> 1.2118438e+09
A13: (+/-) Saldo do Exercício Anterior | B13: 0
A14: (=) Compromisso Total de Aplicação em Gratuidade | B14: =B12 -> 1.2118438e+09
A16: DESPESAS | B16: Valor (R$)
A17: PCG | B17: =B18+B19 -> 4.0309886e+09
A18: Programação (DR/DN) | B18: ='Resumo PCG e Gratuidade'!C32 -> 4.0202881e+09
A19: Acordo MTUR | B19: ='Resumo PCG e Gratuidade'!D32 -> 10700537
A20: em Gratuidade | B20: =B21+B22 -> 1.9977859e+09
A21: Programação (DR/DN) | B21: ='Resumo PCG e Gratuidade'!F32 -> 1.989238e+09
A22: Acordo MTUR | B22: ='Resumo PCG e Gratuidade'!G32 -> 8547823.4
A23: Resultado do Cumprimento da Aplicação de Recursos no PCG (Meta: 33,33%)
A24: Percentual da Receita Líquida de Contribuição Destinado ao PCG | B24: =B17/B6 -> 0.5544987
A25: Resultado do Cumprimento da Aplicação de Recursos em Gratuidade (Meta: 16,67%)
A26: Percentual da Receita Líquida de Contribuição Destinado à Gratuidade | B26: =B20/B6 -> 0.27481339
A27: Data de fechamento: 15/03/2024. Fonte: Quadros Programa de Comprometimento e Gratuidade (PCG) de 27 Departamentos Regionais e Departamento Nacional após análise do Conselho Fiscal do Sesc.

Sheet Detalhamento RCL
A1: Detalhamento da Receita de Contribuição Compulsória
A3: DR/DN | B3: Receita Compulsória Bruta | C3: Comissão paga ao órgão arrecadador | D3: Contribuição à Confederação Nacional e às Federações | E3: Receita Compulsória Líquida
A4: AC | B4: 12301912 | C4: 246038.23 | D4: 361676.22 | E4: =B4-C4-D4 -> 11694198
A5: AL | B5: 32865145 | C5: 657302.89 | D5: 966235.24 | E5: =B5-C5-D5 -> 31241606
A6: AM | B6: 55735622 | C6: 1114712.4 | D6: 1638627.3 | E6: =B6-C6-D6 -> 52982283
A7: AP | B7: 8888988.9 | C7: 177779.77 | D7: 261336.26 | E7: =B7-C7-D7 -> 8449872.9
A8: BA | B8: 2.0098661e+08 | C8: 4019732.2 | D8: 5909006.3 | E8: =B8-C8-D8 -> 1.9105787e+08
A9: CE | B9: 1.6361441e+08 | C9: 3272288.2 | D9: 4810263.7 | E9: =B9-C9-D9 -> 1.5553186e+08
A10: DF | B10: 2.5253881e+08 | C10: 5050776.2 | D10: 7424641.1 | E10: =B10-C10-D10 -> 2.4006339e+08
A11: ES | B11: 87727157 | C11: 1754543.1 | D11: 2579178.4 | E11: =B11-C11-D11 -> 83393435
A12: GO | B12: 1.2964245e+08 | C12: 2592849 | D12: 3811488.1 | E12: =B12-C12-D12 -> 1.2323811e+08
A13: MA | B13: 60978217 | C13: 1219564.3 | D13: 1792759.6 | E13: =B13-C13-D13 -> 57965893
A14: MG | B14: 4.6125354e+08 | C14: 9225070.8 | D14: 13560854 | E14: =B14-C14-D14 -> 4.3846761e+08
A15: MS | B15: 51177872 | C15: 1023557.4 | D15: 1504629.4 | E15: =B15-C15-D15 -> 48649685
... A31: DN | B31: 1.5932865e+09 | C31: 1.5136222e+08 | D31: 2.3062822e+08 | E31: =B31-C31-D31 -> 1.2112961e+09
A32: TOTAL | B32: =SUM(B4:B31) -> 7.9664326e+09 | C32: =SUM(C4:C31) -> 2.7882514e+08 | D32: =SUM(D4:D31) -> 4.1799872e+08 | E32: =SUM(E4:E31) -> 7.2696088e+09

Sheet Resumo PCG e Gratuidade
A1: Programa de Comprometimento e Gratuidade Resumo Sesc 2023 | L1: Programa de Comprometimento e Gratuidade Por Programa / Atividade | P1: Programa de Comprometimento e Gratuidade Por DR ou DN, Programa e Atividade | T1: Programa de Comprometimento e Gratuidade Quantitativo de Inscrições e de Produção*
A2: DR/DN | B2: Receita Compulsória Líquida (R$) | C2: PCG Total (R$) | F2: Gratuidade (R$) | I2: % PCG Total | J2: % Gratuidade | L2: Programa / Atividade | M2: PCG Total (R$) | N2: Gratuidade (R$) | P2: DR ou DN /Programa / Atividade | Q2: PCG Total (R$) | R2: Gratuidade (R$) | T2: DR / Programa / Atividade / Modalidade / Realização | U2: Inscrições PCG Total | V2: Produção* PCG Total | W2: Incrições Gratuidade | X2: Produção* Gratuidade
C3: Programação DR/DN | D3: Acordo MTUR | E3: Total PCG | F3: Programação DR/DN | G3: Acordo MTUR | H3: Total Gratuidade
A4: AC | B4: 11694198 | C4: 8077964.7 | D4: 0 | E4: =C4+D4 -> 8077964.7 | F4: 2371128.8 | G4: 0 | H4: =F4+G4 -> 2371128.8 | I4: =IFERROR((C4+D4)/B4,"") -> 0.6907669 | J4: =IFERROR((F4+G4)/B4,"") -> 0.20276114 | L4: 1. Educação | M4: =SUM(M5:M11) -> 1.4656924e+09 | N4: =SUM(N5:N11) -> 8.061975e+08 | P4: AC | Q4: 8077964.7 | R4: 2371128.8 | T4: AC | U4: 1176 | V4: 627366 | W4: 338 | X4: 197131
A5: AL | B5: 31241606 | C5: 15883088 | D5: 67413.12 | E5: =C5+D5 -> 15950501 | F5: 5543068.6 | G5: 61521.21 | H5: =F5+G5 -> 5604589.8 | I5: =IFERROR((C5+D5)/B5,"") -> 0.51055318 | J5: =IFERROR((F5+G5)/B5,"") -> 0.17939506 | L5: Educação Infantil | M5: 2.6964165e+08 | N5: 99922241 | P5: 1. Educação | Q5: 8077964.7 | R5: 2371128.8 | T5: Educação | U5: 1176 | V5: 627366 | W5: 338 | X5: 197131
A6: AM | B6: 52982283 | C6: 37158506 | D6: 351866.25 | E6: =C6+D6 -> 37510372 | F6: 9210797.3 | G6: 307742.22 | H6: =F6+G6 -> 9518539.6 | I6: =IFERROR((C6+D6)/B6,"") -> 0.70797954 | J6: =IFERROR((F6+G6)/B6,"") -> 0.17965514 | L6: Ensino Fundamental | M6: 3.0772372e+08 | N6: 62617463 | P6: 1.1. Educação Infantil | Q6: 1027499.7 | R6: 130792.46 | T6: Educação Infantil | U6: 146 | V6: 94460 | W6: 21 | X6: 12024
A7: AP | B7: 8449872.9 | C7: 3517094 | D7: 25748 | E7: =C7+D7 -> 3542842 | F7: 1668489.5 | G7: 21494.43 | H7: =F7+G7 -> 1689984 | I7: =IFERROR((C7+D7)/B7,"") -> 0.41927755 | J7: =IFERROR((F7+G7)/B7,"") -> 0.20000111 | L7: Ensino Médio | M7: 1.0841896e+08 | N7: 55092964 | P7: 1.2. Ensino Fundamental | Q7: 3699127.7 | R7: 1329957.1 | T7: Sem Modalidade | U7: 146 | V7: 94460 | W7: 21 | X7: 12024
A8: BA | B8: 1.9105787e+08 | C8: 74866226 | D8: 2227188.3 | E8: =C8+D8 -> 77093414 | F8: 34180147 | G8: 2006919.3 | H8: =F8+G8 -> 36187067 | I8: =IFERROR((C8+D8)/B8,"") -> 0.40350818 | J8: =IFERROR((F8+G8)/B8,"") -> 0.1894037 | L8: Educação de Jovens e Adultos | M8: 2.8403459e+08 | N8: 2.7861884e+08 | P8: 1.4. Educação de Jovens e Adultos | Q8: 2479989.6 | R8: 673680.69 | T8: Pré-escola (1102) | U8: 146 | V8: 94460 | W8: 21 | X8: 12024
A9: CE | B9: 1.5553186e+08 | C9: 84164509 | D9: 700000 | E9: =C9+D9 -> 84864509 | F9: 34153379 | G9: 640220 | H9: =F9+G9 -> 34793599 | I9: =IFERROR((C9+D9)/B9,"") -> 0.54564068 | J9: =IFERROR((F9+G9)/B9,"") -> 0.22370722 | L9: Educação Complementar | M9: 3.5011978e+08 | N9: 2.3385232e+08 | P9: 1.5. Educação Complementar | Q9: 871347.7 | R9: 236698.62 | T9: Ensino Fundamental | U9: 426 | V9: 306726 | W9: 158 | X9: 110278
A10: DF | B10: 2.4006339e+08 | C10: 1.143356e+08 | D10: 1096317.3 | E10: =C10+D10 -> 1.1543191e+08 | F10: 53231369 | G10: 729708.79 | H10: =F10+G10 -> 53961078 | I10: =IFERROR((C10+D10)/B10,"") -> 0.4808393 | J10: =IFERROR((F10+G10)/B10,"") -> 0.22477845 | L10: Cursos de Valorização Social | M10: 19528258 | N10: 9953204.8 | P10: AL | Q10: 15883088 | R10: 5543068.6 | T10: Sem Modalidade | U10: 426 | V10: 306726 | W10: 158 | X10: 110278
A11: ES | B11: 83393435 | C11: 40080501 | D11: 85432.78 | E11: =C11+D11 -> 40165934 | F11: 19428636 | G11: 68277.88 | H11: =F11+G11 -> 19496914 | I11: =IFERROR((C11+D11)/B11,"") -> 0.48164383 | J11: =IFERROR((F11+G11)/B11,"") -> 0.23379435 | L11: Educação em Ciências e Humanidades | M11: 1.2622546e+08 | N11: 66140462 | P11: 1. Educação | Q11: 3860970.1 | R11: 1556275.7 | T11: Anos iniciais (1201) | U11: 426 | V11: 306726 | W11: 158 | X11: 110278
A12: GO | B12: 1.2323811e+08 | C12: 92853762 | D12: 20000 | E12: =C12+D12 -> 92873762 | F12: 29445731 | G12: 16062 | H12: =F12+G12 -> 29461793 | I12: =IFERROR((C12+D12)/B12,"") -> 0.75361232 | J12: =IFERROR((F12+G12)/B12,"") -> 0.23906397 | L12: 2. Saúde | M12: =M13 -> 42727789 | N12: =N13 -> 15770450 | P12: 1.1. Educação Infantil | Q12: 1200114.6 | R12: 0 | T12: Educação de Jovens e Adultos | U12: 189 | V12: 53024 | W12: 50 | X12: 14772
A13: MA | B13: 57965893 | C13: 19643475 | D13: 67129.9 | E13: =C13+D13 -> 19710605 | F13: 9703038.8 | G13: 62370.39 | H13: =F13+G13 -> 9765409.2 | I13: =IFERROR((C13+D13)/B13,"") -> 0.34003797 | J13: =IFERROR((F13+G13)/B13,"") -> 0.16846819 | L13: Educação em Saúde | M13: 42727789 | N13: 15770450 | P13: 1.2. Ensino Fundamental | Q13: 1104579.8 | R13: 0 | T13: Sem Modalidade | U13: 189 | V13: 53024 | W13: 50 | X13: 14772
A14: MG | B14: 4.3846761e+08 | C14: 2.2598504e+08 | D14: 151128.33 | E14: =C14+D14 -> 2.2613617e+08 | F14: 88956802 | G14: 124756.44 | H14: =F14+G14 -> 89081558 | I14: =IFERROR((C14+D14)/B14,"") -> 0.51574201 | J14: =IFERROR((F14+G14)/B14,"") -> 0.20316565 | L14: 3. Cultura | M14: =SUM(M15:M20) -> 1.7783853e+09 | N14: =SUM(N15:N20) -> 8.9199537e+08 | P14: 1.4. Educação de Jovens e Adultos | Q14: 1074343.2 | R14: 1074343.2 | T14: Alfabetização (1401) | U14: 72 | V14: 24362 | W14: 19 | X14: 6210
A15: MS | B15: 48649685 | C15: 40831804 | D15: 27851.25 | E15: =C15+D15 -> 40859655 | F15: 10005358 | G15: 22236.44 | H15: =F15+G15 -> 10027595 | I15: =IFERROR((C15+D15)/B15,"") -> 0.83987503 | J15: =IFERROR((F15+G15)/B15,"") -> 0.20611839 | L15: Artes Cênicas | M15: 5.4634876e+08 | N15: 2.8664737e+08 | P15: 1.5. Educação Complementar | Q15: 481932.47 | R15: 481932.47 | T15: Anos iniciais do ensino fundamental (1402) | U15: 117 | V15: 28662 | W15: 31 | X15: 8562
A16: MT | B16: 73514210 | C16: 48964398 | D16: 68636.18 | E16: =C16+D16 -> 49033034 | F16: 15932378 | G16: 54984.44 | H16: =F16+G16 -> 15987362 | I16: =IFERROR((C16+D16)/B16,"") -> 0.66698716 | J16: =IFERROR((F16+G16)/B16,"") -> 0.21747309 | L16: Artes Visuais | M16: 3.6843556e+08 | N16: 1.7793389e+08 | P16: 2. Saúde | Q16: 1400830.6 | R16: 753464.18 | T16: Educação Complementar | U16: 415 | V16: 173156 | W16: 109 | X16: 60057
A17: PA | B17: 83811272 | C17: 63609741 | D17: 0 | E17: =C17+D17 -> 63609741 | F17: 18136751 | G17: 0 | H17: =F17+G17 -> 18136751 | I17: =IFERROR((C17+D17)/B17,"") -> 0.75896403 | J17: =IFERROR((F17+G17)/B17,"") -> 0.2163999 | L17: Música | M17: 6.6395433e+08 | N17: 3.4473073e+08 | P17: 2.3. Educação em Saúde | Q17: 1400830.6 | R17: 753464.18 | T17: Acompanhamento Pedagógico | U17: 415 | V17: 173156 | W17: 109 | X17: 60057
A18: PB | B18: 44911699 | C18: 24218514 | D18: 57190.52 | E18: =C18+D18 -> 24275705 | F18: 8748194.2 | G18: 51991.9 | H18: =F18+G18 -> 8800186.1 | I18: =IFERROR((C18+D18)/B18,"") -> 0.54052074 | J18: =IFERROR((F18+G18)/B18,"") -> 0.19594418 | L18: Literatura | M18: 79674835 | N18: 28468618 | P18: 3. Cultura | Q18: 3612052.4 | R18: 753270.28 | T18: Curso (1511) | U18: 415 | V18: 173156 | W18: 109 | X18: 60057
A19: PE | B19: 1.4922037e+08 | C19: 1.2679771e+08 | D19: 301000 | E19: =C19+D19 -> 1.2709871e+08 | F19: 27658416 | G19: 301000 | H19: =F19+G19 -> 27959416 | I19: =IFERROR((C19+D19)/B19,"") -> 0.85175172 | J19: =IFERROR((F19+G19)/B19,"") -> 0.18736997 | L19: Audiovisual | M19: 58078502 | N19: 29751431 | P19: 3.1. Artes Cênicas | Q19: 465241.73 | R19: 151548.89 | T19: AL | U19: 60663 | V19: 721868 | W19: 14161 | X19: 297533
A20: PI | B20: 38249020 | C20: 20292708 | D20: 90604.5 | E20: =C20+D20 -> 20383312 | F20: 7087270.9 | G20: 83029.96 | H20: =F20+G20 -> 7170300.8 | I20: =IFERROR((C20+D20)/B20,"") -> 0.53291071 | J20: =IFERROR((F20+G20)/B20,"") -> 0.18746365 | L20: Biblioteca | M20: 61893318 | N20: 24463332 | P20: 3.2. Artes Visuais | Q20: 362095.38 | R20: 157699.58 | T20: Educação | U20: 510 | V20: 290226 | W20: 282 | X20: 132760
A21: PR | B21: 3.1297191e+08 | C21: 1.252996e+08 | D21: 53630.97 | E21: =C21+D21 -> 1.2535323e+08 | F21: 64314273 | G21: 41102.78 | H21: =F21+G21 -> 64355375 | I21: =IFERROR((C21+D21)/B21,"") -> 0.40052549 | J21: =IFERROR((F21+G21)/B21,"") -> 0.20562668 | L21: 4. Lazer | M21: =SUM(M22:M24) -> 6.0865986e+08 | N21: =SUM(N22:N24) -> 2.2601744e+08 | P21: 3.3. Música | Q21: 561654.67 | R21: 135235.97 | T21: Educação Infantil | U21: 53 | V21: 34880 | W21: 0 | X21: 0
A22: RJ | B22: 6.9363475e+08 | C22: 3.4682022e+08 | D22: 81163.48 | E22: =C22+D22 -> 3.4690138e+08 | F22: 1.3545309e+08 | G22: 61505.68 | H22: =F22+G22 -> 1.355146e+08 | I22: =IFERROR((C22+D22)/B22,"") -> 0.50012111 | J22: =IFERROR((F22+G22)/B22,"") -> 0.19536881 | L22: Desenvolvimento Físico-Esportivo | M22: 2.9536795e+08 | N22: 1.408414e+08 | P22: 3.4. Literatura | Q22: 572912.86 | R22: 135542.09 | T22: Sem Modalidade | U22: 53 | V22: 34880 | W22: 0 | X22: 0
A23: RN | B23: 47958073 | C23: 17276780 | D23: 1416177 | E23: =C23+D23 -> 18692957 | F23: 10623714 | G23: 1253883.1 | H23: =F23+G23 -> 11877597 | I23: =IFERROR((C23+D23)/B23,"") -> 0.38977707 | J23: =IFERROR((F23+G23)/B23,"") -> 0.24766627 | L23: Recreação | M23: 1.4642783e+08 | N23: 69097476 | P23: 3.5. Audiovisual | Q23: 511821.34 | R23: 173243.75 | T23: Creche (1101) | U23: 16 | V23: 10464 | W23: 0 | X23: 0
A24: RO | B24: 26842804 | C24: 9540611.9 | D24: 115516.67 | E24: =C24+D24 -> 9656128.6 | F24: 4738300.8 | G24: 115516.67 | H24: =F24+G24 -> 4853817.4 | I24: =IFERROR((C24+D24)/B24,"") -> 0.35972876 | J24: =IFERROR((F24+G24)/B24,"") -> 0.18082379 | L24: Turismo Social | M24: 1.6686408e+08 | N24: 16078562 | P24: 3.6. Biblioteca | Q24: 1138326.4 | R24: 0 | T24: Pré-escola (1102) | U24: 37 | V24: 24416 | W24: 0 | X24: 0
A25: RR | B25: 7084553 | C25: 8952193.3 | D25: 26313.12 | E25: =C25+D25 -> 8978506.4 | F25: 1937187.7 | G25: 22179.33 | H25: =F25+G25 -> 1959367 | I25: =IFERROR((C25+D25)/B25,"") -> 1.2673356 | J25: =IFERROR((F25+G25)/B25,"") -> 0.2765689 | L25: 5. Assistência | M25: =SUM(M26:M28) -> 1.248227e+08 | N25: =SUM(N26:N28) -> 49257267 | P25: 4. Lazer | Q25: 6086421.3 | R25: 2438313.2 | T25: Ensino Fundamental | U25: 175 | V25: 122586 | W25: 0 | X25: 0
A26: RS | B26: 3.0422876e+08 | C26: 1.6151231e+08 | D26: 702987.58 | E26: =C26+D26 -> 1.622153e+08 | F26: 68101124 | G26: 527240.69 | H26: =F26+G26 -> 68628365 | I26: =IFERROR((C26+D26)/B26,"") -> 0.53320173 | J26: =IFERROR((F26+G26)/B26,"") -> 0.22558145 | L26: Desenvolvimento Comunitário | M26: 36051603 | N26: 17487998 | P26: 4.1. Desenvolvimento Físico-Esportivo | Q26: 4846165.6 | R26: 1970469.1 | T26: Sem Modalidade | U26: 175 | V26: 122586 | W26: 0 | X26: 0
A27: SC | B27: 2.2045398e+08 | C27: 2.4563552e+08 | D27: 836197.53 | E27: =C27+D27 -> 2.4647171e+08 | F27: 37597527 | G27: 222535.31 | H27: =F27+G27 -> 37820062 | I27: =IFERROR((C27+D27)/B27,"") -> 1.1180189 | J27: =IFERROR((F27+G27)/B27,"") -> 0.17155536 | L27: Segurança Alimentar e Apoio Social | M27: 7610888.1 | N27: 2624478 | P27: 4.2. Recreação | Q27: 179826.17 | R27: 179826.17 | T27: Anos iniciais (1201) | U27: 175 | V27: 122586 | W27: 0 | X27: 0
A28: SE | B28: 32413166 | C28: 11870557 | D28: 50382.97 | E28: =C28+D28 -> 11920940 | F28: 5779186.5 | G28: 44956.72 | H28: =F28+G28 -> 5824143.2 | I28: =IFERROR((C28+D28)/B28,"") -> 0.3677808 | J28: =IFERROR((F28+G28)/B28,"") -> 0.17968449 | L28: Trabalho Social com Grupos | M28: 81160206 | N28: 29144791 | P28: 4.3. Turismo Social | Q28: 1060429.6 | R28: 288017.9 | T28: Educação de Jovens e Adultos | U28: 142 | V28: 51931 | W28: 142 | X28: 51931
A29: SP | B29: 2.5635605e+09 | C29: 1.6380424e+09 | D29: 851148.97 | E29: =C29+D29 -> 1.6388936e+09 | F29: 9.6313761e+08 | G29: 619295.99 | H29: =F29+G29 -> 9.6375691e+08 | I29: =IFERROR((C29+D29)/B29,"") -> 0.63930364 | J29: =IFERROR((F29+G29)/B29,"") -> 0.37594467 | L29: Total Geral | M29: =M4+M12+M14+M21+M25 -> 4.0202881e+09 | N29: =N4+N12+N14+N21+N25 -> 1.989238e+09 | P29: 5. Assistência | Q29: 922813.98 | R29: 41745.27 | T29: Sem Modalidade | U29: 142 | V29: 51931 | W29: 142 | X29: 51931
A30: TO | B30: 16721790 | C30: 5941626.6 | D30: 60224 | E30: =C30+D30 -> 6001850.6 | F30: 3083653.3 | G30: 52003.42 | H30: =F30+G30 -> 3135656.8 | I30: =IFERROR((C30+D30)/B30,"") -> 0.35892394 | J30: =IFERROR((F30+G30)/B30,"") -> 0.18751921 | P30: 5.3. Trabalho Social com Grupos | Q30: 922813.98 | R30: 41745.27 | T30: Anos iniciais do ensino fundamental (1402) | U30: 142 | V30: 51931 | W30: 142 | X30: 51931
A31: DN | B31: 1.2112961e+09 | C31: 4.0811561e+08 | D31: 1169288.7 | E31: =C31+D31 -> 4.092849e+08 | F31: 3.1901141e+08 | G31: 1035288.2 | H31: =F31+G31 -> 3.200467e+08 | I31: =IFERROR((C31+D31)/B31,"") -> 0.33789006 | J31: =IFERROR((F31+G31)/B31,"") -> 0.26421839 | P31: AM | Q31: 37158506 | R31: 9210797.3 | T31: Educação Complementar | U31: 140 | V31: 80829 | W31: 140 | X31: 80829
A32: Total Geral | B32: =SUM(B4:B31) -> 7.2696088e+09 | C32: =SUM(C4:C31) -> 4.0202881e+09 | D32: =SUM(D4:D31) -> 10700537 | E32: =SUM(E4:E31) -> 4.0309886e+09 | F32: =SUM(F4:F31) -> 1.989238e+09 | G32: =SUM(G4:G31) -> 8547823.4 | H32: =SUM(H4:H31) -> 1.9977859e+09 | I32: =IFERROR((C32+D32)/B32,"") -> 0.5544987 | J32: =IFERROR((F32+G32)/B32,"") -> 0.27481339 | P32: 1. Educação | Q32: 12740257 | R32: 4702634.6 | T32: Acompanhamento Pedagógico | U32: 140 | V32: 80829 | W32: 140 | X32: 80829
P33: 1.2. Ensino Fundamental | Q33: 5461714.2 | R33: 99917.89 | T33: Curso (1511) | U33: 140 | V33: 80829 | W33: 140 | X33: 80829
P34: 1.3. Ensino Médio | Q34: 2205738.4 | R34: 475566.51 | T34: Saúde | U34: 25883 | V34: 39620 | W34: 5540 | X34: 25980
P35: 1.4. Educação de Jovens e Adultos | Q35: 2628746.6 | R35: 2628746.6 | T35: Educação em Saúde | U35: 25883 | V35: 39620 | W35: 5540 | X35: 25980
P36: 1.5. Educação Complementar | Q36: 1876517.5 | R36: 1378313.1 | T36: Sem Modalidade | U36: 25883 | V36: 39620 | W36: 5540 | X36: 25980
P37: 1.6. Cursos de Valorização Social | Q37: 0 | R37: 0 | T37: Encontro (2303) | U37: 4294 | V37: 3148 | W37: 2216 | X37: 3060
P38: 1.7. Educação em Ciências e Humanidades | Q38: 567539.93 | R38: 120090.42 | T38: Oficina (2305) | U38: 6769 | V38: 9899 | W38: 866 | X38: 8572
P39: 2. Saúde | Q39: 395202.34 | R39: 102730.68 | T39: Orientação (2306) | U39: 0 | V39: 6919 | W39: 0 | X39: 2360
P40: 2.3. Educação em Saúde | Q40: 395202.34 | R40: 102730.68 | T40: Palestra (2307) | U40: 0 | V40: 2044 | W40: 0 | X40: 388
...
